BEGIN:VCALENDAR
VERSION:2.0
PRODID:-//Australian Energy Storage Alliance - ECPv4.6.19//NONSGML v1.0//EN
CALSCALE:GREGORIAN
METHOD:PUBLISH
X-WR-CALNAME:Australian Energy Storage Alliance
X-ORIGINAL-URL:https://energystoragealliance.com.au
X-WR-CALDESC:Events for Australian Energy Storage Alliance
BEGIN:VEVENT
DTSTART;TZID=UTC+11:20200520T080000
DTEND;TZID=UTC+11:20200521T170000
DTSTAMP:20200225T115030
CREATED:20180327T031104Z
LAST-MODIFIED:20191016T000807Z
UID:14994-1589961600-1590080400@energystoragealliance.com.au
SUMMARY:Australian Energy Storage Conference & Exhibition
DESCRIPTION:As the nation’s leader in the new energy transition\, South Australia is powering ahead with the uptake of energy storage technology. The Australian Energy Storage Conference and Exhibition (AES) is pleased to announce that AES 2020 will return to Adelaide\, with the Government of South Australia\, Adelaide Convention Bureau\, and Adelaide Convention Centre as principal partners. \n
URL:https://energystoragealliance.com.au/event/australian-energy-storage-conference-exhibition-4/
LOCATION:North Terrace\, Adelaide \, SA\, 5000\, Australia
ATTACH;FMTTYPE=image/png:https://energystoragealliance.com.au/site/wp-content/uploads/2018/03/AES-2020-logo__3.png
ORGANIZER;CN="Exhibitions%20%26%20Trade%20Fairs":MAILTO:info@australianenergystorage.com.au
END:VEVENT
END:VCALENDAR